BEGIN:VCALENDAR
VERSION:2.0
PRODID:-//Pfadfindergruppe Linz 4 - ECPv6.5.0.1//NONSGML v1.0//EN
CALSCALE:GREGORIAN
METHOD:PUBLISH
X-ORIGINAL-URL:https://www.linz4.at
X-WR-CALDESC:Veranstaltungen für Pfadfindergruppe Linz 4
REFRESH-INTERVAL;VALUE=DURATION:PT1H
X-Robots-Tag:noindex
X-PUBLISHED-TTL:PT1H
BEGIN:VTIMEZONE
TZID:Europe/Helsinki
BEGIN:DAYLIGHT
TZOFFSETFROM:+0200
TZOFFSETTO:+0300
TZNAME:EEST
DTSTART:20240331T010000
END:DAYLIGHT
BEGIN:STANDARD
TZOFFSETFROM:+0300
TZOFFSETTO:+0200
TZNAME:EET
DTSTART:20241027T010000
END:STANDARD
END:VTIMEZONE
BEGIN:VEVENT
DTSTART;TZID=Europe/Helsinki:20241206T170000
DTEND;TZID=Europe/Helsinki:20241206T190000
DTSTAMP:20260422T152626
CREATED:20241114T191900Z
LAST-MODIFIED:20241114T191900Z
UID:7166-1733504400-1733511600@www.linz4.at
SUMMARY:Adventheimstunde
DESCRIPTION:Mit Stationen\, Keksen\, Lagerfeuer & Punsch
URL:https://www.linz4.at/event/adventheimstunde-2/
LOCATION:Linz 4 Heim\, Neubauzeile 68\, Linz\, 4030\, Österreich
END:VEVENT
END:VCALENDAR