BEGIN:VCALENDAR
VERSION:2.0
PRODID:-//Pfadfindergruppe Linz 4 - ECPv6.5.0.1//NONSGML v1.0//EN
CALSCALE:GREGORIAN
METHOD:PUBLISH
X-WR-CALNAME:Pfadfindergruppe Linz 4
X-ORIGINAL-URL:https://www.linz4.at
X-WR-CALDESC:Veranstaltungen für Pfadfindergruppe Linz 4
REFRESH-INTERVAL;VALUE=DURATION:PT1H
X-Robots-Tag:noindex
X-PUBLISHED-TTL:PT1H
BEGIN:VTIMEZONE
TZID:Europe/Helsinki
BEGIN:DAYLIGHT
TZOFFSETFROM:+0200
TZOFFSETTO:+0300
TZNAME:EEST
DTSTART:20240331T010000
END:DAYLIGHT
BEGIN:STANDARD
TZOFFSETFROM:+0300
TZOFFSETTO:+0200
TZNAME:EET
DTSTART:20241027T010000
END:STANDARD
END:VTIMEZONE
BEGIN:VEVENT
DTSTART;TZID=Europe/Helsinki:20240622T080000
DTEND;TZID=Europe/Helsinki:20240622T140000
DTSTAMP:20260424T114326
CREATED:20240425T130833Z
LAST-MODIFIED:20240528T181039Z
UID:6421-1719043200-1719064800@www.linz4.at
SUMMARY:Flohmarkt & Frühschoppen
DESCRIPTION:
URL:https://www.linz4.at/event/flohmarkt-fruehschoppen/
LOCATION:Linz 4 Heim\, Neubauzeile 68\, Linz\, 4030\, Österreich
END:VEVENT
BEGIN:VEVENT
DTSTART;TZID=Europe/Helsinki:20240628T173000
DTEND;TZID=Europe/Helsinki:20240628T200000
DTSTAMP:20260424T114326
CREATED:20240325T193859Z
LAST-MODIFIED:20240528T180855Z
UID:6331-1719595800-1719604800@www.linz4.at
SUMMARY:Abschlussheimstunde
DESCRIPTION:Für alle Leiter\, Elternräte\, Kinder und Jugendliche\,\nsowie deren Verwandten und Freunden \nMit den Lieblingsspielen der Kinder und Jugendlichen\nund Lagerfeuer mit Stockbrot
URL:https://www.linz4.at/event/abschlussheimstunde-3/
LOCATION:Linz 4 Heim\, Neubauzeile 68\, Linz\, 4030\, Österreich
END:VEVENT
END:VCALENDAR