BEGIN:VCALENDAR
VERSION:2.0
PRODID:-//Pfadfindergruppe Linz 4 - ECPv6.5.0.1//NONSGML v1.0//EN
CALSCALE:GREGORIAN
METHOD:PUBLISH
X-ORIGINAL-URL:https://www.linz4.at
X-WR-CALDESC:Veranstaltungen für Pfadfindergruppe Linz 4
REFRESH-INTERVAL;VALUE=DURATION:PT1H
X-Robots-Tag:noindex
X-PUBLISHED-TTL:PT1H
BEGIN:VTIMEZONE
TZID:Europe/Helsinki
BEGIN:DAYLIGHT
TZOFFSETFROM:+0200
TZOFFSETTO:+0300
TZNAME:EEST
DTSTART:20240331T010000
END:DAYLIGHT
BEGIN:STANDARD
TZOFFSETFROM:+0300
TZOFFSETTO:+0200
TZNAME:EET
DTSTART:20241027T010000
END:STANDARD
END:VTIMEZONE
BEGIN:VEVENT
DTSTART;TZID=Europe/Helsinki:20240916T180000
DTEND;TZID=Europe/Helsinki:20240916T190000
DTSTAMP:20260422T183646
CREATED:20240917T143445Z
LAST-MODIFIED:20240917T143445Z
UID:6752-1726509600-1726513200@www.linz4.at
SUMMARY:Startheimstunde CaEx
DESCRIPTION:
URL:https://www.linz4.at/event/startheimstunde-caex/
LOCATION:Salzburg
END:VEVENT
BEGIN:VEVENT
DTSTART;TZID=Europe/Helsinki:20240916T200000
DTEND;TZID=Europe/Helsinki:20240916T210000
DTSTAMP:20260422T183646
CREATED:20240917T143546Z
LAST-MODIFIED:20240917T143546Z
UID:6754-1726516800-1726520400@www.linz4.at
SUMMARY:Startheimstunde RaRo
DESCRIPTION:
URL:https://www.linz4.at/event/startheimstunde-raro/
LOCATION:Salzburg
END:VEVENT
BEGIN:VEVENT
DTSTART;TZID=Europe/Helsinki:20240918T170000
DTEND;TZID=Europe/Helsinki:20240918T183000
DTSTAMP:20260422T183646
CREATED:20240917T143840Z
LAST-MODIFIED:20240917T143840Z
UID:6756-1726678800-1726684200@www.linz4.at
SUMMARY:Startheimstunde GuSp
DESCRIPTION:Mit Überstellung der WiWö
URL:https://www.linz4.at/event/startheimstunde-gusp/
LOCATION:Motorikpark Leonding\, Parkstraße\,\, Leonding\, Oberösterreich\, 4060\, Österreich
END:VEVENT
BEGIN:VEVENT
DTSTART;TZID=Europe/Helsinki:20240924T173000
DTEND;TZID=Europe/Helsinki:20240924T190000
DTSTAMP:20260422T183646
CREATED:20240917T143945Z
LAST-MODIFIED:20240917T143945Z
UID:6759-1727199000-1727204400@www.linz4.at
SUMMARY:Startheimstunde WiWö
DESCRIPTION:
URL:https://www.linz4.at/event/startheimstunde-wiwoe/
LOCATION:Linz 4 Heim\, Neubauzeile 68\, Linz\, 4030\, Österreich
END:VEVENT
END:VCALENDAR